BEGIN:VCALENDAR
VERSION:2.0
PRODID:-//Segel-Club Hattingen e. V. - ECPv6.15.20//NONSGML v1.0//EN
CALSCALE:GREGORIAN
METHOD:PUBLISH
X-WR-CALNAME:Segel-Club Hattingen e. V.
X-ORIGINAL-URL:https://www.segelclub-hattingen.de
X-WR-CALDESC:Veranstaltungen für Segel-Club Hattingen e. V.
REFRESH-INTERVAL;VALUE=DURATION:PT1H
X-Robots-Tag:noindex
X-PUBLISHED-TTL:PT1H
BEGIN:VTIMEZONE
TZID:Europe/Berlin
BEGIN:DAYLIGHT
TZOFFSETFROM:+0100
TZOFFSETTO:+0200
TZNAME:CEST
DTSTART:20240331T010000
END:DAYLIGHT
BEGIN:STANDARD
TZOFFSETFROM:+0200
TZOFFSETTO:+0100
TZNAME:CET
DTSTART:20241027T010000
END:STANDARD
BEGIN:DAYLIGHT
TZOFFSETFROM:+0100
TZOFFSETTO:+0200
TZNAME:CEST
DTSTART:20250330T010000
END:DAYLIGHT
BEGIN:STANDARD
TZOFFSETFROM:+0200
TZOFFSETTO:+0100
TZNAME:CET
DTSTART:20251026T010000
END:STANDARD
BEGIN:DAYLIGHT
TZOFFSETFROM:+0100
TZOFFSETTO:+0200
TZNAME:CEST
DTSTART:20260329T010000
END:DAYLIGHT
BEGIN:STANDARD
TZOFFSETFROM:+0200
TZOFFSETTO:+0100
TZNAME:CET
DTSTART:20261025T010000
END:STANDARD
END:VTIMEZONE
BEGIN:VEVENT
DTSTART;TZID=Europe/Berlin:20250702T173000
DTEND;TZID=Europe/Berlin:20250702T193000
DTSTAMP:20260422T135415
CREATED:20250130T191242Z
LAST-MODIFIED:20250130T193159Z
UID:4051-1751477400-1751484600@www.segelclub-hattingen.de
SUMMARY:Boote checken - Sommercheck
DESCRIPTION:Hin und wieder sollten wir unsere Boote checken und putzen\, damit uns das Material auch möglichst lange erhalten bleibt. Wir wollen uns mit euch zusammen treffen und dies machen.\nSpeis und Trank zur Stärkung sind nicht ausgeschlossen 😉
URL:https://www.segelclub-hattingen.de/veranstaltung/boote-checken-sommercheck/
LOCATION:Seglerheim\, Blumenau 7\, Bochum\, 44801\, Germany
CATEGORIES:Clubleben
ATTACH;FMTTYPE=image/jpeg:https://www.segelclub-hattingen.de/wp-content/uploads/2025/01/Bootscheck.jpg
END:VEVENT
END:VCALENDAR